BEGIN:VCALENDAR
VERSION:2.0
PRODID:-//tik Theater im Kino • Berlin - ECPv6.15.17.1//NONSGML v1.0//EN
CALSCALE:GREGORIAN
METHOD:PUBLISH
X-WR-CALNAME:tik Theater im Kino • Berlin
X-ORIGINAL-URL:https://www.theater-im-kino.de
X-WR-CALDESC:Veranstaltungen für tik Theater im Kino • Berlin
REFRESH-INTERVAL;VALUE=DURATION:PT1H
X-Robots-Tag:noindex
X-PUBLISHED-TTL:PT1H
BEGIN:VTIMEZONE
TZID:Europe/Berlin
BEGIN:DAYLIGHT
TZOFFSETFROM:+0100
TZOFFSETTO:+0200
TZNAME:CEST
DTSTART:20250330T010000
END:DAYLIGHT
BEGIN:STANDARD
TZOFFSETFROM:+0200
TZOFFSETTO:+0100
TZNAME:CET
DTSTART:20251026T010000
END:STANDARD
BEGIN:DAYLIGHT
TZOFFSETFROM:+0100
TZOFFSETTO:+0200
TZNAME:CEST
DTSTART:20260329T010000
END:DAYLIGHT
BEGIN:STANDARD
TZOFFSETFROM:+0200
TZOFFSETTO:+0100
TZNAME:CET
DTSTART:20261025T010000
END:STANDARD
BEGIN:DAYLIGHT
TZOFFSETFROM:+0100
TZOFFSETTO:+0200
TZNAME:CEST
DTSTART:20270328T010000
END:DAYLIGHT
BEGIN:STANDARD
TZOFFSETFROM:+0200
TZOFFSETTO:+0100
TZNAME:CET
DTSTART:20271031T010000
END:STANDARD
END:VTIMEZONE
BEGIN:VEVENT
DTSTART;TZID=Europe/Berlin:20260306T210000
DTEND;TZID=Europe/Berlin:20260306T233000
DTSTAMP:20260423T144037
CREATED:20260131T022229Z
LAST-MODIFIED:20260131T022229Z
UID:35388-1772830800-1772839800@www.theater-im-kino.de
SUMMARY:Open Stage at tik
DESCRIPTION:Open Stage im tik\n \nStage for Singers/Songwriters and Musicians of all Styles (3 songs per player or 15 min max.) open for everyone; no competition\nDrums\, Piano\, Guitar & Bass\, Amps\, Mic’s available. Just bring your songs and friends!\nJam Session only\, when there is no one\, who wants sing her/his own stuff .\n(We like to let the Artists perform their Music like THEY want it to be\, their rhythm\, their style. Jamming is cool\, but it doesn’t fit for everyone’s songs and performance. ) But feel free to jam on YOUR slot on stage\, if you like!!!\ndoors open 9 pm – open end\, more or less.\nCome ‚round for good music and nice vibes\, Entrance free!\nSign up for musicians ad hoc during the evening (first come\, first served)\n \n \n\nBühne für Singer/Songwriter und Musiker aller Stilrichtungen (3 Songs pro Spieler oder max. 15 min.) offen für alle; kein Wettbewerb.\nSchlagzeug\, Klavier\, Gitarre & Bass\, Verstärker\, Mikrofone sind vorhanden. Bringt einfach eure Songs und Freunde mit!\nJam Session nur\, wenn es niemanden gibt\, der sein eigenes Material singen möchte.\n(Wir möchten\, dass die Künstler ihre Musik so spielen\, wie sie es wollen\, ihren Rhythmus\, ihren Stil. Jammen ist cool\, aber es passt nicht zu jedermanns Songs und Performance. ) Aber ihr könnt gerne auf eurem Slot auf der Bühne jammen\, wenn ihr wollt!!! \nTür 21 Uhr – open end\, mehr oder weniger.\nKommt vorbei für gute Musik und nette Vibes\, Eintritt frei!\nMusiker können sich im Laufe des Abends ad hoc anmelden (wer zuerst kommt\, mahlt zuerst) \n\n \n\nIm tik wird bei Veranstaltungen nur noch vor der Tür geraucht\, das heißt „Die Luft ist rein“\n \n\n 
URL:https://www.theater-im-kino.de/veranstaltung/open-stage-at-tik-45/
LOCATION:tik\, Rigaer Straße 77\, Berlin\, 10247
CATEGORIES:Musik,Open Stage,Open Stage,Theater Tik (nord)
ATTACH;FMTTYPE=image/jpeg:https://www.theater-im-kino.de/wordpress/wp-content/uploads/2022/05/nurBild1000x700px-e1727899668962.jpg
END:VEVENT
BEGIN:VEVENT
DTSTART;TZID=Europe/Berlin:20260307T200000
DTEND;TZID=Europe/Berlin:20260307T220000
DTSTAMP:20260423T144037
CREATED:20260206T001824Z
LAST-MODIFIED:20260304T004752Z
UID:35415-1772913600-1772920800@www.theater-im-kino.de
SUMMARY:Mutausbrüche SOLD OUT!
DESCRIPTION:Improvisiert von MomentMal!\nWann hast du das letzte Mal etwas gewagt? \nManchmal braucht Mut einen Anlauf. Manchmal kommt er aus dem Nichts. Und\nmanchmal versteckt er sich in den unscheinbarsten Augenblicken. Der Anruf\,\nden du endlich tätigst. Die Beziehung\, die du beendest. Der Job\, den du\nkündigst. Die Liebe\, die du gestehst. Das Hobby\, das du anfängst. Die\nMeinung\, die du vertrittst. \nIn „Mutausbrüche“ schafft MomentMal! mit euch gemeinsam Geschichten über\nMenschen\, die einen Schritt wagen – vorwärts\, rückwärts\, mit dem Kopf durch\ndie Wand. Ihr gebt uns Impulse\, wir improvisieren daraus Szenen. Über Anfänge und\nEnden. Über das Scheitern und das Gelingen. Über all die großen und kleinen\nEntscheidungen\, die uns zu dem machen\, wer wir sind. \nOhne Skript\, ohne Plan\, unvorhersehbar\, echt und voller Leben. \nSeid dabei und lasst euch überraschen – und vielleicht nehmt ihr am Ende ja\nsogar eine Portion Mut mit nach Hause. \nTickets (12/7 Euro) https://pretix.eu/tik/moment2026-03-07/ \nEinlass ab 19.30 Uhr\nIm Theater ist ausschließlich Barzahlung möglich
URL:https://www.theater-im-kino.de/veranstaltung/mutausbrueche/
LOCATION:tik\, Rigaer Straße 77\, Berlin\, 10247
CATEGORIES:Kammerspiel,Program,Theater,Theater Tik (nord)
ATTACH;FMTTYPE=image/png:https://www.theater-im-kino.de/wordpress/wp-content/uploads/2026/02/HP-FB-Event39.png
END:VEVENT
BEGIN:VEVENT
DTSTART;TZID=Europe/Berlin:20260312T210000
DTEND;TZID=Europe/Berlin:20260312T230000
DTSTAMP:20260423T144037
CREATED:20260211T235934Z
LAST-MODIFIED:20260211T235934Z
UID:35502-1773349200-1773356400@www.theater-im-kino.de
SUMMARY:Joshua Tell & Dorian K. @ ThursdaySounds
DESCRIPTION:Joshua Tell was born in 1867 in the state of Missouri (USA). From a young age he liked collecting things\, be it sticks\, baseball cards or records. In the 1890s he moved to Europe and began creating a collection of handmade songs inspired by folk traditions of his original country. Some people have compared his sound to Taylor Swift. Others have not.  \nDorian K. appeared considerably later and operates out of Berlin. His songs tend to build on repetition and tension\, with a built-in yearning that draws heavily from the Detroit hip-hop scene\, German avant-garde traditions and Appalachian spirituals. Performed solo or with bass guitar and a droning violin\, the music moves between restraint and force. \n\n\n::::::::::::::::::::::::::::::::::::::::::::::::::::::::::::::::::::::::::::::::::::::::::::::::::::::::::::::::::::::::::::::::::::::::::::: \n\n\n\n\nEinlass ab 20.30 Uhr auf Spendenbasis\nIm tik nur Barzahlung\n\n \n\n\n:::::::::::::::::::::::::::::::::::::::::::::::::::::::::::::::::::::::::::::::::::::::::::::::::::::::::::::::::::::::::::::::::::::::::::::\n\n\nTHURSDAY SOUNDS: – Singer/Songwriter Konzerte im Tik\, ab 21.00 Uhr\nJeden Donnerstag ein Konzert mit einem Singer/Songwriter oder einer kleinen Band.\nWer aufmerksam durch Berlin stolpert\, hat es mitbekommen\, die Stadt ist ein Magnet für junge\, verrückte\, talentierte und interessante Musiker. Mit etwas Glück sieht man auf der Warschauer Brücke oder in einem Kneipenhinterzimmer an einem Abend mehr Talent als das ganze Jahr im Fernsehen.\nWir wollen diesen Musikern eine Bühne geben. \nTHURSDAY SOUNDS:\nEvery Thursday we have a concert with a Singer/Songwriter or a small band.\nIt’s Berlin nowadays: The City has become a magnet to musicians from all over the world or from just around the corner. Creatvity and talent is on the street playing for small change\, on the stages of open mics or maybe in the bar in your street.\nThe Tik has a stage for these musicians\, every thursday.
URL:https://www.theater-im-kino.de/veranstaltung/joshua-tell-dorian-k-thursdaysounds/
LOCATION:tik\, Rigaer Straße 77\, Berlin\, 10247
CATEGORIES:Theater Tik (nord),Thursday Sounds
ATTACH;FMTTYPE=image/png:https://www.theater-im-kino.de/wordpress/wp-content/uploads/2026/02/HP-FB-Event34.png
END:VEVENT
BEGIN:VEVENT
DTSTART;TZID=Europe/Berlin:20260313T200000
DTEND;TZID=Europe/Berlin:20260313T223000
DTSTAMP:20260423T144037
CREATED:20260210T131136Z
LAST-MODIFIED:20260216T000501Z
UID:35489-1773432000-1773441000@www.theater-im-kino.de
SUMMARY:And then what?
DESCRIPTION:Naomi Blakeslee (The Marbelles / Scratch Theater) and Christoph Mang (LIBER / Scratch Theater) proudly present \nAnd then what?\n \n[Deutsch folgt] \nThe Genre Braid\nYou choose the genre\, we build the story.  \nWe start with a simple story. Then\, like a puzzle piece we take one of the characters and continue their story in a different genre. From there we pick another character and continue their story in yet another genre. Down this rolling path until the 90 minute show is through!  \nBased on the idea of wanting to play with international improvisers by building a community where different voices from different countries can come together and weave stories under the many styles of the art of Improv. \nShow in english \nEntry: 15/9 Euro https://pretix.eu/tik/atw2026-03-13/ \nDoors: 7.30 pm \n___ \nIhr wählt das Genre\, wir erzählen die Geschichte.  \nWir beginnen mit einer einfachen Geschichte in dem von euch gewählten Genre. Dann nehmen wir wie ein Puzzleteil eine der Figuren und erzählen ihre Geschichte in einem neuen Genre weiter. Von dort aus wählen wir eine andere Figur und setzen ihre Geschichte in einem anderen Genre fort. Und so weiter\, bis die 90-minütige Show zu Ende ist!  \nDiese Show basiert auf der Idee\, mit internationalen Improvisationskünstlern zu spielen und eine Gemeinschaft aufzubauen\, in der verschiedene Stimmen aus verschiedenen Ländern zusammenkommen und Geschichten in den verschiedenen Stilen der Improvisationskunst weben können. \nAufführung in englischer Sprache \nEintritt: 15/9 Euro https://pretix.eu/tik/atw2026-03-13/ \nEinlass ab 19.30 
URL:https://www.theater-im-kino.de/veranstaltung/and-then-what-19/
LOCATION:tik\, Rigaer Straße 77\, Berlin\, 10247
CATEGORIES:Improvisationstheater,Theater,Theater Tik (nord)
ATTACH;FMTTYPE=image/png:https://www.theater-im-kino.de/wordpress/wp-content/uploads/2025/09/HP-FB-Event62.png
END:VEVENT
BEGIN:VEVENT
DTSTART;TZID=Europe/Berlin:20260314T203000
DTEND;TZID=Europe/Berlin:20260314T230000
DTSTAMP:20260423T144037
CREATED:20260210T131534Z
LAST-MODIFIED:20260210T131534Z
UID:35491-1773520200-1773529200@www.theater-im-kino.de
SUMMARY:2nd Language Comedy Deutsch
DESCRIPTION:2nd Language Comedy Deutsch\n \nEin Stand-up-Comedy Open Mic auf Deutsch mit Comedians\, für die dieses Sprache noch relativ neu und teilweise rätselhaft und widersprüchlich ist. Wie das Leben in Berlin und Umgebung ja auch. Eine möglicherweise (noch) nicht ganz korrekte Ausdrucksweise ist kein Versehen\, sondern Programm. \nMit Comedians unterschiedlicher Herkunft und mit erfrischendem Blick  \nFreier Eintritt. Der Hut geht rum. \nDie Tür des tik öffnet sich ca. 20 Uhr. \n—————————————————————————————————— \nA stand-up comedy open mic in which expats\, refugees and others are\nsharing their experiences and jokes in the language of the locals.\nJust like in a funny German course. \nFree entry with hat. Door opens around 8 pm. \n \n 
URL:https://www.theater-im-kino.de/veranstaltung/2nd-language-comedy-deutsch-14/
LOCATION:tik\, Rigaer Straße 77\, Berlin\, 10247
CATEGORIES:Comedie,Program,Theater Tik (nord)
ATTACH;FMTTYPE=image/png:https://www.theater-im-kino.de/wordpress/wp-content/uploads/2025/02/FB-Header125.png
END:VEVENT
BEGIN:VEVENT
DTSTART;TZID=Europe/Berlin:20260318T203000
DTEND;TZID=Europe/Berlin:20260318T223000
DTSTAMP:20260423T144037
CREATED:20260316T005117Z
LAST-MODIFIED:20260316T005117Z
UID:35687-1773865800-1773873000@www.theater-im-kino.de
SUMMARY:Experimentik #92 / Anaïs Tuerlinckx / Ángeles Rojas
DESCRIPTION:Experimentik #92\nAnaïs Tuerlinckx / Ángeles Rojas\n \n\n\n\n\nsolo:\nAnaïs Tuerlinckx – string box\nsolo:\nÁngeles Rojas – “The earth sounds in your ears” for shruti\, objects and perception\n\nadmission: suggested donation 8-15 € at the door (cash only) \ndoors: 20:00 | concert: 20:30 *no entry during sets \n\n\n\n\n\n\n\noriginal photo credit:Anaïs Tuerlinckx ©Tommy Denis | Ángeles Rojas ©Paloma de la Fuente\n\nflyer design Eric Wong\n\n\n\n\n \nExperimentik 2026 – continuity – is funded by inm – initiative neue musik berlin / field notes https://www.inm-berlin.de/ \nin collaboration w/ oolongradio https://oolongradio.com/\n* audio live streaming with binaural microphone on oolongradio \ntik – Theater im Kino / Rigaerstr.77\, 10247 Berlin \n  \n \n 
URL:https://www.theater-im-kino.de/veranstaltung/experimentik-92-anais-tuerlinckx-angeles-rojas/
LOCATION:tik\, Rigaer Straße 77\, Berlin\, 10247
CATEGORIES:Experimentik,Experimentik,Musik,Program,Theater Tik (nord)
ATTACH;FMTTYPE=image/png:https://www.theater-im-kino.de/wordpress/wp-content/uploads/2026/03/HP-FB-Event36.png
END:VEVENT
BEGIN:VEVENT
DTSTART;TZID=Europe/Berlin:20260320T200000
DTEND;TZID=Europe/Berlin:20260320T220000
DTSTAMP:20260423T144037
CREATED:20260115T221031Z
LAST-MODIFIED:20260314T142607Z
UID:35291-1774036800-1774044000@www.theater-im-kino.de
SUMMARY:Theater Techno Tempel SOLD OUT
DESCRIPTION:Der „Schizzo-Tempel“ macht wieder auf\nTheaterperformance im Theater im Kino\, Rigaer Str. 77\, in den ehemaligen Räumen des „Schizzos“\nAls die Rigaer Straße noch zu großen Teilen besetzt war und in fast jedem Keller eine Bar\, ein Club oder eine Ausstellung zu finden\, befand sich in der Hausnummer 77 der „legendäre“ Club „Schizzo-Tempel“. Die 90er Jahre in Friedrichshain sind geprägt von Umbrüchen\, Leerstand und dem kurzen Sommer der Anarchie. Die Räumung der Mainzer Straße\, das Zusammenwachsen von Ost- und Westberlin und die Gentrifizierung haben den Kiez verändert und verändern ihn weiterhin. Heute ist das Theater im Kino in den Räumen des „Schizzo“ zu Hause und lässt den Club mit der Performance „Theater Techno Tempel“ noch einmal aufleben. \nTaucht mit uns ein in die Welt der 90er Jahre\, in die Geschichten\, die Berichte und das Lebensgefühl. Verhandelt mit uns Fragen nach Freiheit\, Sicherheit und Zusammenleben und verliert euch in den dunklen Räumen des „Schizzos“. \n \nEnsemble: Konstantin Gaedes\, Niklas Herbst\, Marcel Kaschig\, Pedro Lanz\, Sabrina Ludwig\, Victoria Luther\, Valentina Marino\, Enya Nagel\, Karl Prange\, Jaclyn Schönberg\, Shams Sikora\, Romy Sukiennik\, Philipp Wittkopf\, Manuel Zimmer\nSchauspiel-Workshops: Jonin Herzig\nDramaturgie: Paul Marwitz-Seyffert\nRegie: Richard Haufe-Ahmels\n \nDauer: 2h inkl. Pause\nDoors: 19 Uhr\nHinweise: Die Performance behandelt Clubkultur\, Alkohol-/Drogenkonsum\, Räumungen\, Polizeigewalt. Es wird Nebel eingesetzt. \nDas Projekt wird durch die Berliner Landeszentrale für politische Bildung gefördert. \nDie Veranstaltung ist ausverkauft. \n  \n \n  \n 
URL:https://www.theater-im-kino.de/veranstaltung/theater-techno-tempel-8/
LOCATION:tik\, Rigaer Straße 77\, Berlin\, 10247
CATEGORIES:Program,Stückentwicklung,Theater,Theater Tik (nord)
ATTACH;FMTTYPE=image/png:https://www.theater-im-kino.de/wordpress/wp-content/uploads/2026/01/HP-FB-Event44.png
END:VEVENT
BEGIN:VEVENT
DTSTART;TZID=Europe/Berlin:20260321T200000
DTEND;TZID=Europe/Berlin:20260321T220000
DTSTAMP:20260423T144037
CREATED:20260115T221107Z
LAST-MODIFIED:20260310T115405Z
UID:35293-1774123200-1774130400@www.theater-im-kino.de
SUMMARY:Theater Techno Tempel SOLD OUT!
DESCRIPTION:Der „Schizzo-Tempel“ macht wieder auf\nTheaterperformance im Theater im Kino\, Rigaer Str. 77\, in den ehemaligen Räumen des „Schizzos“\nAls die Rigaer Straße noch zu großen Teilen besetzt war und in fast jedem Keller eine Bar\, ein Club oder eine Ausstellung zu finden\, befand sich in der Hausnummer 77 der „legendäre“ Club „Schizzo-Tempel“. Die 90er Jahre in Friedrichshain sind geprägt von Umbrüchen\, Leerstand und dem kurzen Sommer der Anarchie. Die Räumung der Mainzer Straße\, das Zusammenwachsen von Ost- und Westberlin und die Gentrifizierung haben den Kiez verändert und verändern ihn weiterhin. Heute ist das Theater im Kino in den Räumen des „Schizzo“ zu Hause und lässt den Club mit der Performance „Theater Techno Tempel“ noch einmal aufleben. \nTaucht mit uns ein in die Welt der 90er Jahre\, in die Geschichten\, die Berichte und das Lebensgefühl. Verhandelt mit uns Fragen nach Freiheit\, Sicherheit und Zusammenleben und verliert euch in den dunklen Räumen des „Schizzos“. \n \nEnsemble: Konstantin Gaedes\, Niklas Herbst\, Marcel Kaschig\, Pedro Lanz\, Sabrina Ludwig\, Victoria Luther\, Valentina Marino\, Enya Nagel\, Karl Prange\, Jaclyn Schönberg\, Shams Sikora\, Romy Sukiennik\, Philipp Wittkopf\, Manuel Zimmer\nSchauspiel-Workshops: Jonin Herzig\nDramaturgie: Paul Marwitz-Seyffert\nRegie: Richard Haufe-Ahmels\n \nDauer: 2h inkl. Pause\nDoors: 19 Uhr\nHinweise: Die Performance behandelt Clubkultur\, Alkohol-/Drogenkonsum\, Räumungen\, Polizeigewalt. Es wird Nebel eingesetzt. \nDas Projekt wird durch die Berliner Landeszentrale für politische Bildung gefördert. \nDie Vorstellung ist ausverkauft! \n  \n \n  \n 
URL:https://www.theater-im-kino.de/veranstaltung/theater-techno-tempel-9/
LOCATION:tik\, Rigaer Straße 77\, Berlin\, 10247
CATEGORIES:Program,Stückentwicklung,Theater,Theater Tik (nord)
ATTACH;FMTTYPE=image/png:https://www.theater-im-kino.de/wordpress/wp-content/uploads/2026/01/HP-FB-Event44.png
END:VEVENT
BEGIN:VEVENT
DTSTART;TZID=Europe/Berlin:20260325T203000
DTEND;TZID=Europe/Berlin:20260325T230000
DTSTAMP:20260423T144037
CREATED:20260210T131750Z
LAST-MODIFIED:20260210T131750Z
UID:35493-1774470600-1774479600@www.theater-im-kino.de
SUMMARY:Offene Klappe Comedy
DESCRIPTION:Open Mic für Comedy und sonstigen Humor\n \nSchreiende Komik und mutige Versuche! \nNeben Stand up kann jeder Quatsch auf die Bühne kommen\, der irgendwie witzig ist oder noch wird. Gute Stimmung ist garantiert\, Lachen sehr wahrscheinlich. \nFür Comedians : Dauer je Spot ca. 7 min. Spontane Spots sind nur begrenzt möglich. Meldet euch zwecks Anmeldung gern mindestens einige Tage vor der Veranstaltung bei stephen_blaubach@web.de \nDas tik ist ab ca. 20 Uhr geöffnet. Die Show beginnt ca. 20:30 Uhr. \nFreier Eintritt. Spenden für den Hut sind gern gesehen. \n \n 
URL:https://www.theater-im-kino.de/veranstaltung/offene-klappe-comedy-30/
LOCATION:tik\, Rigaer Straße 77\, Berlin\, 10247
CATEGORIES:Comedie,Offene Klappe,Program,Theater Tik (nord)
ATTACH;FMTTYPE=image/png:https://www.theater-im-kino.de/wordpress/wp-content/uploads/2025/02/FB-Header124-1.png
END:VEVENT
BEGIN:VEVENT
DTSTART;TZID=Europe/Berlin:20260326T210000
DTEND;TZID=Europe/Berlin:20260326T230000
DTSTAMP:20260423T144037
CREATED:20260311T002534Z
LAST-MODIFIED:20260311T002924Z
UID:35640-1774558800-1774566000@www.theater-im-kino.de
SUMMARY:Sam & Trevor @ ThursdaySounds feat. Casafungo & Ellangton
DESCRIPTION:Sam & Trevor\nIndebted to the great songwriter tradition before them and eager to stake a claim on their place in the canon\, Sam & Trevor make music that is equally familiar as it is fresh. A highly curated sound with a reverence for the past and an emphasis on colourful composition\, the songs harness the unique ability to sound classic without being cliche. Together they sing to the heavens whilst standing firm-footed in the soil\, regaling finely crafted lyrical narratives over simple yet sophisticated arrangements. It’s hard to say what era Sam & Trevor were supposed to be in\, perhaps sometime between 1959 and 1974\, but we can be thankful they are around today for our listening pleasure.\n \nhttps://www.instagram.com/sam.and.trevor/\n\nhttps://www.youtube.com/watch?v=0sP8uwZAfho \n  \nCasafungo & Ellangton – a beautiful musical collaboration between Christopher Langkau and Ella Burkhardt\, two hopeless romantics who initially bonded over their mutual love for Bob Dylan have found their own way to turn stories into song. With vastly different musical upbringings\, Casafungo‘s sound takes you on a psychedelic indie carpet ride\, while Ellangton yearns and revels in her quiet intensity. Together they‘ll be performing from each other‘s songbooks\, letting listeners in on their secret tales of broken hearts and silver linings. \n\n \nhttps://www.instagram.com/casafungo/\n\nhttps://open.spotify.com/artist/5QFhCcHQXq36kql1dPK3Bz?si=SXDb279NRyOHQKpiZzc8sw \n \nhttps://www.instagram.com/ellangton/\n\nhttps://open.spotify.com/artist/0WCLzkSFIBvkoXmeKi7M5Q?si=wYyHvCNqTY6aNSV7TxBmlQ\n \n\n\n::::::::::::::::::::::::::::::::::::::::::::::::::::::::::::::::::::::::::::::::::::::::::::::::::::::::::::::::::::::::::::::::::::::::::::: \n\n  \n\n\n\nEinlass ab 20.30 Uhr auf Spendenbasis\nIm tik nur Barzahlung\n\n \n\n\n:::::::::::::::::::::::::::::::::::::::::::::::::::::::::::::::::::::::::::::::::::::::::::::::::::::::::::::::::::::::::::::::::::::::::::::\n\n\nTHURSDAY SOUNDS: – Singer/Songwriter Konzerte im Tik\, ab 21.00 Uhr\nJeden Donnerstag ein Konzert mit einem Singer/Songwriter oder einer kleinen Band.\nWer aufmerksam durch Berlin stolpert\, hat es mitbekommen\, die Stadt ist ein Magnet für junge\, verrückte\, talentierte und interessante Musiker. Mit etwas Glück sieht man auf der Warschauer Brücke oder in einem Kneipenhinterzimmer an einem Abend mehr Talent als das ganze Jahr im Fernsehen.\nWir wollen diesen Musikern eine Bühne geben. \nTHURSDAY SOUNDS:\nEvery Thursday we have a concert with a Singer/Songwriter or a small band.\nIt’s Berlin nowadays: The City has become a magnet to musicians from all over the world or from just around the corner. Creatvity and talent is on the street playing for small change\, on the stages of open mics or maybe in the bar in your street.\nThe Tik has a stage for these musicians\, every thursday.
URL:https://www.theater-im-kino.de/veranstaltung/sam-trevor-thursdaysounds-feat-casafungo-ellangton/
LOCATION:tik\, Rigaer Straße 77\, Berlin\, 10247
CATEGORIES:Theater Tik (nord),Thursday Sounds
ATTACH;FMTTYPE=image/png:https://www.theater-im-kino.de/wordpress/wp-content/uploads/2026/03/HP-FB-Event45.png
END:VEVENT
BEGIN:VEVENT
DTSTART;TZID=Europe/Berlin:20260327T200000
DTEND;TZID=Europe/Berlin:20260327T220000
DTSTAMP:20260423T144037
CREATED:20260302T013128Z
LAST-MODIFIED:20260302T015105Z
UID:35582-1774641600-1774648800@www.theater-im-kino.de
SUMMARY:Frühlingserwachen: Diese Woche im Angebot
DESCRIPTION:Improvisationstheater mit dem Club der Impronäre\n \nEin langer Winter war das wieder einmal in Berlin und es wird langsam Zeit! Der Club der Impronäre entführt euch in den erwachenden Frühling. Und wo zeigt sich der Lenz von seiner kreativsten Seite\, mit den besten Ideen und im zärtlichsten Grün? Richtig! Im Pflanzen-Shop\, im Baumarkt\, im Gartencenter. Shoppen\, Schnäppchen jagen\, Menschen begegnen. Wie immer und jedes Jahr oder sich selbst neu erfinden? Alles ist möglich. Es liegt in euren Händen\, was zwischen Primeln und Rasenmähern geschehen wird. Machen wir uns gemeinsam auf den Weg! \nEine abendfüllende improvisierte Geschichte mit dem Club der Impronäre und euren Ideen. \nEinlass ab 19.30 Uhr \nKarten (15/erm. 9 Euro): https://pretix.eu/tik/cdi-2026-03-27/ \nIm Theater nur Barzahlung \n 
URL:https://www.theater-im-kino.de/veranstaltung/fruehlingserwachen-diese-woche-im-angebot-4/
LOCATION:tik\, Rigaer Straße 77\, Berlin\, 10247
CATEGORIES:Improvisationstheater,Theater,Theater Tik (nord)
ATTACH;FMTTYPE=image/png:https://www.theater-im-kino.de/wordpress/wp-content/uploads/2026/03/HP-FB-Event38.png
END:VEVENT
BEGIN:VEVENT
DTSTART;TZID=Europe/Berlin:20260328T150000
DTEND;TZID=Europe/Berlin:20260328T180000
DTSTAMP:20260423T144037
CREATED:20260221T011609Z
LAST-MODIFIED:20260310T112230Z
UID:35529-1774710000-1774720800@www.theater-im-kino.de
SUMMARY:KlamotTIK: Der ultimative Klamottentausch
DESCRIPTION:KlamotTIK: der ultimative Klamottentausch im Kiez mit DJ\n \nIhr kennt das: Der Schrank platzt aus allen Nähten. Schöne Teile\, die ihr irgendwie doch nie anzieht. Zu groß\, zu klein\, doch die falsche Farbe\, gar nicht euer Stil. Auf jeden Fall zu schade für die Altkleidersammlung. Und der Sommer klopft auch schon an die Tür\, also Zeit für einen Garderobenwechsel. Das heißt: Koffer packen und auf zum Klamottentausch ins tik! \nZum ersten Mal mit DJ\, also mit ausgewählt guter Mucke! Phil Richarde is in da house! Das ist eure Chance auf den Dance-Check vor dem Spiegel!\n \nOffen für alle (w/m/d)\, die was loswerden wollen und/oder was suchen. Angesprochen sind alle\, für die Nachhaltigkeit nicht nur ein leeres Wort ist. In gemütlicher Atmosphäre kann getrunken\, gequatscht\, getauscht und getanzt werden\, was das Zeug hält. \n \nUnsere Tauschregeln: Der Eintritt ist frei. Für die Klamotten gibt es keine Ausschlusskriterien\, sie sollten allerdings intakt und sauber sein. Unterwäsche ist per Definition keine Klamotte. Mitgebrachtes muss nicht wieder mitgenommen werden\, wenn wir es angenommen haben\, aber ihr könnt es natürlich auch wieder mitnehmen. Wer nichts mitgebracht hat\, kann trotzdem etwas mitnehmen. Fragen könnt ihr gern an kontakt@theater-im-kino.de richten.\n \nEine Veranstaltung von tik und Pop im Nordkiez\n \n. \n 
URL:https://www.theater-im-kino.de/veranstaltung/klamottik-der-ultimative-klamottentausch-5/
LOCATION:tik\, Rigaer Straße 77\, Berlin\, 10247
CATEGORIES:Theater Tik (nord)
ATTACH;FMTTYPE=image/png:https://www.theater-im-kino.de/wordpress/wp-content/uploads/2026/02/HP-FB-Event36.png
END:VEVENT
BEGIN:VEVENT
DTSTART;TZID=Europe/Berlin:20260328T200000
DTEND;TZID=Europe/Berlin:20260328T223000
DTSTAMP:20260423T144037
CREATED:20260221T013151Z
LAST-MODIFIED:20260304T221934Z
UID:35536-1774728000-1774737000@www.theater-im-kino.de
SUMMARY:FantasTIK Games: WannaTIK
DESCRIPTION:Die KiezShow präsentiert FantasTIK Games\n\nHeute: WannaTIK\n\nDer Kiez lebt überall\, so auch im Theater im Kino. Das sind die Abende\, an denen ihr nicht nur zuschaut\, sondern direkt mitmacht. Es wird gespielt\, was das Zeug hält\, mit janz ville Kiezjefühl! \nJede*r kennt es\, alle lieben es: Scharade! In bunten Teams habt ihr die Chance\, Menschen und euch selbst ganz neu kennenzulernen. Denn bei Scharade lassen wir alles raus\, was in uns steckt. In verschiedenen Spielarten des Klassikers bringt unser DreamDuo Bené die Hütte zum (metaphorischen) Brennen und euch zum kreativen Explodieren. So habt ihr Scharade noch nicht gespielt\, denn das ist WannaTik! \nNatürlich gibt es wieder exorbitant entzückende Preise\, die eure Augen glänzen lassen und euch zu Höchstleistungen motivieren werden. \nAlle sind willkommen! Du musst natürlich nicht im Kiez wohnen. Wenn du im tik bist\, bist du im Kiez und Teil davon. Der Eintritt ist frei. Nur der Teamname kostet einen schmalen Taler. Im tik geht das Bezahlen nur cash. \nEinlass ab 19.30 Uhr \n  \n     
URL:https://www.theater-im-kino.de/veranstaltung/fantastik-games-wannatik-2/
LOCATION:tik\, Rigaer Straße 77\, Berlin\, 10247
CATEGORIES:Theater Tik (nord)
ATTACH;FMTTYPE=image/png:https://www.theater-im-kino.de/wordpress/wp-content/uploads/2025/03/HP-FB-Event12.png
END:VEVENT
END:VCALENDAR