BEGIN:VCALENDAR
VERSION:2.0
PRODID:-//tik Theater im Kino • Berlin - ECPv6.15.17.1//NONSGML v1.0//EN
CALSCALE:GREGORIAN
METHOD:PUBLISH
X-ORIGINAL-URL:https://www.theater-im-kino.de
X-WR-CALDESC:Veranstaltungen für tik Theater im Kino • Berlin
REFRESH-INTERVAL;VALUE=DURATION:PT1H
X-Robots-Tag:noindex
X-PUBLISHED-TTL:PT1H
BEGIN:VTIMEZONE
TZID:Europe/Berlin
BEGIN:DAYLIGHT
TZOFFSETFROM:+0100
TZOFFSETTO:+0200
TZNAME:CEST
DTSTART:20250330T010000
END:DAYLIGHT
BEGIN:STANDARD
TZOFFSETFROM:+0200
TZOFFSETTO:+0100
TZNAME:CET
DTSTART:20251026T010000
END:STANDARD
BEGIN:DAYLIGHT
TZOFFSETFROM:+0100
TZOFFSETTO:+0200
TZNAME:CEST
DTSTART:20260329T010000
END:DAYLIGHT
BEGIN:STANDARD
TZOFFSETFROM:+0200
TZOFFSETTO:+0100
TZNAME:CET
DTSTART:20261025T010000
END:STANDARD
BEGIN:DAYLIGHT
TZOFFSETFROM:+0100
TZOFFSETTO:+0200
TZNAME:CEST
DTSTART:20270328T010000
END:DAYLIGHT
BEGIN:STANDARD
TZOFFSETFROM:+0200
TZOFFSETTO:+0100
TZNAME:CET
DTSTART:20271031T010000
END:STANDARD
END:VTIMEZONE
BEGIN:VEVENT
DTSTART;TZID=Europe/Berlin:20260228T200000
DTEND;TZID=Europe/Berlin:20260228T223000
DTSTAMP:20260423T162119
CREATED:20260215T010527Z
LAST-MODIFIED:20260215T010613Z
UID:35505-1772308800-1772317800@www.theater-im-kino.de
SUMMARY:FantasTIK Games: OlympTIKs
DESCRIPTION:Die KiezShow präsentiert FantasTIK Games\n\nHeute: OlympTIKs\n\n\nWir sind wieder da. Der Kiez lebt überall\, so auch im Theater im Kino. Das sind die Abende\, an denen ihr nicht nur zuschaut\, sondern direkt mitmacht. Es wird gespielt\, was das Zeug hält\, mit janz ville Kiezjefühl! \nFreund:innen des Brett- und Kartenspiels haben endlich die Chance\, mal richtig durchzustarten. Verschiedene feine Spiele\, persönlich gestestet vom FantasTIK-Team\, warten darauf\, von euch gespielt zu werden. Und zwar auf der Bühne und alle auf einmal\, in wechselnder Besetzung. Klassiker und Newcomer sind dabei und ihr hoffentlich auch. Denn wer kommt\, darf auch spielen. Es wird olympisch\, denn das sind die OlympTIKs! \nNatürlich gibt es exorbitant entzückende Preise\, die eure Augen glänzen lassen und euch zu Höchstleistungen motivieren werden. \nAlle sind willkommen! Du musst natürlich nicht im Kiez wohnen. Wenn du im tik bist\, bist du im Kiez und Teil davon. Der Eintritt ist frei. Nur die Startnummer kostet einen schmalen Taler. Im tik geht das Bezahlen nur cash. \nEinlass ab 19.30 Uhr \n  \n     
URL:https://www.theater-im-kino.de/veranstaltung/fantastik-games-olymptiks-3/
LOCATION:tik\, Rigaer Straße 77\, Berlin\, 10247
CATEGORIES:Theater Tik (nord)
ATTACH;FMTTYPE=image/png:https://www.theater-im-kino.de/wordpress/wp-content/uploads/2024/12/FB-Header109.png
END:VEVENT
END:VCALENDAR