BEGIN:VCALENDAR
VERSION:2.0
PRODID:-//tik Theater im Kino • Berlin - ECPv6.15.17.1//NONSGML v1.0//EN
CALSCALE:GREGORIAN
METHOD:PUBLISH
X-ORIGINAL-URL:https://www.theater-im-kino.de
X-WR-CALDESC:Veranstaltungen für tik Theater im Kino • Berlin
REFRESH-INTERVAL;VALUE=DURATION:PT1H
X-Robots-Tag:noindex
X-PUBLISHED-TTL:PT1H
BEGIN:VTIMEZONE
TZID:Europe/Berlin
BEGIN:DAYLIGHT
TZOFFSETFROM:+0100
TZOFFSETTO:+0200
TZNAME:CEST
DTSTART:20250330T010000
END:DAYLIGHT
BEGIN:STANDARD
TZOFFSETFROM:+0200
TZOFFSETTO:+0100
TZNAME:CET
DTSTART:20251026T010000
END:STANDARD
BEGIN:DAYLIGHT
TZOFFSETFROM:+0100
TZOFFSETTO:+0200
TZNAME:CEST
DTSTART:20260329T010000
END:DAYLIGHT
BEGIN:STANDARD
TZOFFSETFROM:+0200
TZOFFSETTO:+0100
TZNAME:CET
DTSTART:20261025T010000
END:STANDARD
BEGIN:DAYLIGHT
TZOFFSETFROM:+0100
TZOFFSETTO:+0200
TZNAME:CEST
DTSTART:20270328T010000
END:DAYLIGHT
BEGIN:STANDARD
TZOFFSETFROM:+0200
TZOFFSETTO:+0100
TZNAME:CET
DTSTART:20271031T010000
END:STANDARD
END:VTIMEZONE
BEGIN:VEVENT
DTSTART;TZID=Europe/Berlin:20260227T200000
DTEND;TZID=Europe/Berlin:20260227T220000
DTSTAMP:20260423T162722
CREATED:20260201T235610Z
LAST-MODIFIED:20260210T235757Z
UID:35399-1772222400-1772229600@www.theater-im-kino.de
SUMMARY:Ein Fenster zum Hof - Western Style
DESCRIPTION:Improvisationstheater mit dem Club der Impronäre\n\n\nWestern\, das ist doch was von gestern! Und doch\, fragen Impro-Ensembles ihr Publikum nach einem Genre\, kommt oftmals als eine der ersten Ideen: Western.  \nAn diesem Abend richtet der Club der Impronäre unseren Blick durch die Fenster eines Hauses fernab der Großstadt. Inspiriert vom Genre des Western widmen sie sich klassischen Themen wie Einsamkeit\, Miteinander und Moral. Alles ganz anders als im täglichen Trubel der Metropole oder gibt es da Schnittmengen? Eure Ideen schreiben eine Geschichte und ihr entscheidet\, welche. \nImprovisationstheater heißt kein Skript und keine Texte\, bevor der Vorhang aufgeht. Das gilt auch für diesen Abend.\n\nVorverkauf (15/9 Euro) im tikTicketStore https://pretix.eu/tik/CdI-2026-02-27/ \nEinlass ab 19.30 Uhr \nIm Theater Cash only \nFoto: Juan Estupiñán
URL:https://www.theater-im-kino.de/veranstaltung/ein-fenster-zum-hof-3/
LOCATION:tik\, Rigaer Straße 77\, Berlin\, 10247
CATEGORIES:Improvisationstheater,Theater,Theater Tik (nord)
ATTACH;FMTTYPE=image/png:https://www.theater-im-kino.de/wordpress/wp-content/uploads/2026/02/HP-FB-Event30.png
END:VEVENT
END:VCALENDAR