BEGIN:VCALENDAR
VERSION:2.0
PRODID:-//tik Theater im Kino • Berlin - ECPv6.15.17.1//NONSGML v1.0//EN
CALSCALE:GREGORIAN
METHOD:PUBLISH
X-WR-CALNAME:tik Theater im Kino • Berlin
X-ORIGINAL-URL:https://www.theater-im-kino.de
X-WR-CALDESC:Veranstaltungen für tik Theater im Kino • Berlin
REFRESH-INTERVAL;VALUE=DURATION:PT1H
X-Robots-Tag:noindex
X-PUBLISHED-TTL:PT1H
BEGIN:VTIMEZONE
TZID:Europe/Berlin
BEGIN:DAYLIGHT
TZOFFSETFROM:+0100
TZOFFSETTO:+0200
TZNAME:CEST
DTSTART:20240331T010000
END:DAYLIGHT
BEGIN:STANDARD
TZOFFSETFROM:+0200
TZOFFSETTO:+0100
TZNAME:CET
DTSTART:20241027T010000
END:STANDARD
BEGIN:DAYLIGHT
TZOFFSETFROM:+0100
TZOFFSETTO:+0200
TZNAME:CEST
DTSTART:20250330T010000
END:DAYLIGHT
BEGIN:STANDARD
TZOFFSETFROM:+0200
TZOFFSETTO:+0100
TZNAME:CET
DTSTART:20251026T010000
END:STANDARD
BEGIN:DAYLIGHT
TZOFFSETFROM:+0100
TZOFFSETTO:+0200
TZNAME:CEST
DTSTART:20260329T010000
END:DAYLIGHT
BEGIN:STANDARD
TZOFFSETFROM:+0200
TZOFFSETTO:+0100
TZNAME:CET
DTSTART:20261025T010000
END:STANDARD
END:VTIMEZONE
BEGIN:VEVENT
DTSTART;TZID=Europe/Berlin:20251211T210000
DTEND;TZID=Europe/Berlin:20251211T230000
DTSTAMP:20260420T120601
CREATED:20251124T124356Z
LAST-MODIFIED:20251124T143426Z
UID:35112-1765486800-1765494000@www.theater-im-kino.de
SUMMARY:Ataura & Oisín Lynch @ ThursdaySounds
DESCRIPTION:ATAURA ist eine leise Singer-Songwriter-Küchenband\, die sich im Jahr 2006 im kleinsten Bühnenwinkel der Stadt Berlin unter einem Tisch angefreundet hat.\nMit einigen Unterbrechungen spielen die Berlinerin Jacqueline Hensch und der Ire Stephen Lynch poppig angefolkte Lieder in englischer Sprache\, die zum großen Teil aus Jacquelines musikalischer Vergangenenheit mit der Band“ the Snotheads“ stammen. Akustische Gitarren\, harmonischer Gesang\, lange Haare.\nSetzt Euch zu „Ataura“ unter den Tisch und betrachtet die Welt mit ihnen aus diesem Blickwinkel.\n\n \nATAURA is a silent Singer-Songwriter-Kitchenband wich was formed in the year 2006\, in the smallest stage bar angle of Berlin\, by meeting unter a table.\nSince then\, with some intermissions\, the Berliner Jacqueline Hensch and the Irish Stephen Lynch are playing pop-folkish songs in English language. Most of the songs were written with Jacquelines (and Stephens???) former Band „the Snotheads“. Acoustic guitars\, harmonic singing/melodies\, long hair. \nSit down under the table with „Ataura“ and watch the world from a different angle with them.\n \nOISÍN LYNCH  ist ein junger deutsch-irischer Gitarrist und Sänger aus Berlin\, der im November 2024 mit seiner selbst produzierten EP „The Moths“ debütierte und seitdem u.a. als Support-Act für die Berliner Band Agatha is Dead! im Lark auftrat. \nMit seinem modernen Singer-Songwriter-Sound und intimen Live-Auftritten\, bestehend aus englischsprachigem Gesang und Gitarrenbegleitung\, lädt er seine Zuhörer*innen auf eine Reise ins Innere ein\, um einen Raum für ehrliche und dennoch liebevolle Selbstreflexion zu schaffen.\n:::::::::::::::::::::::::::::::::::::::::::::::::::::::::::::::::::::::::::::::::::::::::::::::::::::::::::::::::::::::::::::::::::::::::::::::::::::::::::::::::::: \n\n\n\nEinlass ab 20.30 Uhr auf Spendenbasis\nIm tik nur Barzahlung\n \n\n\n:::::::::::::::::::::::::::::::::::::::::::::::::::::::::::::::::::::::::::::::::::::::::::::::::::::::::::::::::::::::::::::::::::::::::::::::::::::::::::::::::::::::::::::\n\n\nTHURSDAY SOUNDS: – Singer/Songwriter Konzerte im Tik\, ab 21.00 Uhr\nJeden Donnerstag ein Konzert mit einem Singer/Songwriter oder einer kleinen Band.\nWer aufmerksam durch Berlin stolpert\, hat es mitbekommen\, die Stadt ist ein Magnet für junge\, verrückte\, talentierte und interessante Musiker. Mit etwas Glück sieht man auf der Warschauer Brücke oder in einem Kneipenhinterzimmer an einem Abend mehr Talent als das ganze Jahr im Fernsehen.\nWir wollen diesen Musikern eine Bühne geben. \nTHURSDAY SOUNDS:\nEvery Thursday we have a concert with a Singer/Songwriter or a small band.\nIt’s Berlin nowadays: The City has become a magnet to musicians from all over the world or from just around the corner. Creatvity and talent is on the street playing for small change\, on the stages of open mics or maybe in the bar in your street.\nThe Tik has a stage for these musicians\, every thursday.
URL:https://www.theater-im-kino.de/veranstaltung/ataura-oisin-lynch-thursdaysounds/
LOCATION:tik\, Rigaer Straße 77\, Berlin\, 10247
CATEGORIES:Theater Tik (nord),Thursday Sounds
ATTACH;FMTTYPE=image/png:https://www.theater-im-kino.de/wordpress/wp-content/uploads/2025/11/HP-FB-Event8-1.png
END:VEVENT
END:VCALENDAR