BEGIN:VCALENDAR
VERSION:2.0
PRODID:-//tik Theater im Kino • Berlin - ECPv6.15.17.1//NONSGML v1.0//EN
CALSCALE:GREGORIAN
METHOD:PUBLISH
X-ORIGINAL-URL:https://www.theater-im-kino.de
X-WR-CALDESC:Veranstaltungen für tik Theater im Kino • Berlin
REFRESH-INTERVAL;VALUE=DURATION:PT1H
X-Robots-Tag:noindex
X-PUBLISHED-TTL:PT1H
BEGIN:VTIMEZONE
TZID:Europe/Berlin
BEGIN:DAYLIGHT
TZOFFSETFROM:+0100
TZOFFSETTO:+0200
TZNAME:CEST
DTSTART:20240331T010000
END:DAYLIGHT
BEGIN:STANDARD
TZOFFSETFROM:+0200
TZOFFSETTO:+0100
TZNAME:CET
DTSTART:20241027T010000
END:STANDARD
BEGIN:DAYLIGHT
TZOFFSETFROM:+0100
TZOFFSETTO:+0200
TZNAME:CEST
DTSTART:20250330T010000
END:DAYLIGHT
BEGIN:STANDARD
TZOFFSETFROM:+0200
TZOFFSETTO:+0100
TZNAME:CET
DTSTART:20251026T010000
END:STANDARD
BEGIN:DAYLIGHT
TZOFFSETFROM:+0100
TZOFFSETTO:+0200
TZNAME:CEST
DTSTART:20260329T010000
END:DAYLIGHT
BEGIN:STANDARD
TZOFFSETFROM:+0200
TZOFFSETTO:+0100
TZNAME:CET
DTSTART:20261025T010000
END:STANDARD
END:VTIMEZONE
BEGIN:VEVENT
DTSTART;TZID=Europe/Berlin:20251022T200000
DTEND;TZID=Europe/Berlin:20251022T223000
DTSTAMP:20260420T120556
CREATED:20250918T214121Z
LAST-MODIFIED:20250918T214121Z
UID:34646-1761163200-1761172200@www.theater-im-kino.de
SUMMARY:FantasTIK Games: QuesTIK
DESCRIPTION:Die KiezShow präsentiert FantasTIK Games\n\nHeute: QuesTIK\n\nDer Kiez lebt überall\, so auch im Theater im Kino. Das sind die Abende\, an denen ihr nicht nur zuschaut\, sondern direkt mitmacht. Es wird gespielt\, was das Zeug hält\, mit janz ville Kiezjefühl! \nKneipenquiz\, das kennt man und das macht Spaß. Im tik gibt es ab Oktober die einzig mögliche Steigerungsform: Ein Quiz über alles und für jede*n und zwar im Theater. Also ein Theaterquiz. Keine Panik\, es geht nicht etwa nur um die Bühne. Es geht ums Leben\, mit ganz viel Spaß und mit ein paar etwas abwegig anmutenden Quizfragen. QuesTIK: genau euer Ding! Ihr könnt als Team oder Solo antreten\, je nach der Höhe eures Klugscheißer-Quotienten. Wer sich anmeldet\, hat die besten Chancen\, dabeizusein. Schreibt uns eine kurze Mail an kontakt@theater-im-kino.de \nAlle sind willkommen! Du musst natürlich nicht im Kiez wohnen. Wenn du im tik bist\, bist du im Kiez und Teil davon. Der Eintritt ist frei. Wer kommt\, spielt auch. Nur die Startnummer kostet einen schmalen Taler. Im tik geht das Bezahlen nur cash. \nEinlass ab 19.30 Uhr \n    
URL:https://www.theater-im-kino.de/veranstaltung/fantastik-games-questik-2/
LOCATION:tik\, Rigaer Straße 77\, Berlin\, 10247
CATEGORIES:Theater Tik (nord)
ATTACH;FMTTYPE=image/png:https://www.theater-im-kino.de/wordpress/wp-content/uploads/2025/06/HP-FB-Event38.png
END:VEVENT
END:VCALENDAR